BEGIN:VCALENDAR
VERSION:2.0
PRODID:-//San Giorgio Martire onlus - ECPv6.15.15//NONSGML v1.0//EN
CALSCALE:GREGORIAN
METHOD:PUBLISH
X-WR-CALNAME:San Giorgio Martire onlus
X-ORIGINAL-URL:https://www.sangiorgiomartireonlus.com
X-WR-CALDESC:Eventi per San Giorgio Martire onlus
REFRESH-INTERVAL;VALUE=DURATION:PT1H
X-Robots-Tag:noindex
X-PUBLISHED-TTL:PT1H
BEGIN:VTIMEZONE
TZID:Europe/Rome
BEGIN:DAYLIGHT
TZOFFSETFROM:+0100
TZOFFSETTO:+0200
TZNAME:CEST
DTSTART:20090329T010000
END:DAYLIGHT
BEGIN:STANDARD
TZOFFSETFROM:+0200
TZOFFSETTO:+0100
TZNAME:CET
DTSTART:20091025T010000
END:STANDARD
BEGIN:DAYLIGHT
TZOFFSETFROM:+0100
TZOFFSETTO:+0200
TZNAME:CEST
DTSTART:20100328T010000
END:DAYLIGHT
BEGIN:STANDARD
TZOFFSETFROM:+0200
TZOFFSETTO:+0100
TZNAME:CET
DTSTART:20101031T010000
END:STANDARD
BEGIN:DAYLIGHT
TZOFFSETFROM:+0100
TZOFFSETTO:+0200
TZNAME:CEST
DTSTART:20110327T010000
END:DAYLIGHT
BEGIN:STANDARD
TZOFFSETFROM:+0200
TZOFFSETTO:+0100
TZNAME:CET
DTSTART:20111030T010000
END:STANDARD
BEGIN:DAYLIGHT
TZOFFSETFROM:+0100
TZOFFSETTO:+0200
TZNAME:CEST
DTSTART:20120325T010000
END:DAYLIGHT
BEGIN:STANDARD
TZOFFSETFROM:+0200
TZOFFSETTO:+0100
TZNAME:CET
DTSTART:20121028T010000
END:STANDARD
BEGIN:DAYLIGHT
TZOFFSETFROM:+0100
TZOFFSETTO:+0200
TZNAME:CEST
DTSTART:20130331T010000
END:DAYLIGHT
BEGIN:STANDARD
TZOFFSETFROM:+0200
TZOFFSETTO:+0100
TZNAME:CET
DTSTART:20131027T010000
END:STANDARD
BEGIN:DAYLIGHT
TZOFFSETFROM:+0100
TZOFFSETTO:+0200
TZNAME:CEST
DTSTART:20140330T010000
END:DAYLIGHT
BEGIN:STANDARD
TZOFFSETFROM:+0200
TZOFFSETTO:+0100
TZNAME:CET
DTSTART:20141026T010000
END:STANDARD
BEGIN:DAYLIGHT
TZOFFSETFROM:+0100
TZOFFSETTO:+0200
TZNAME:CEST
DTSTART:20150329T010000
END:DAYLIGHT
BEGIN:STANDARD
TZOFFSETFROM:+0200
TZOFFSETTO:+0100
TZNAME:CET
DTSTART:20151025T010000
END:STANDARD
BEGIN:DAYLIGHT
TZOFFSETFROM:+0100
TZOFFSETTO:+0200
TZNAME:CEST
DTSTART:20160327T010000
END:DAYLIGHT
BEGIN:STANDARD
TZOFFSETFROM:+0200
TZOFFSETTO:+0100
TZNAME:CET
DTSTART:20161030T010000
END:STANDARD
BEGIN:DAYLIGHT
TZOFFSETFROM:+0100
TZOFFSETTO:+0200
TZNAME:CEST
DTSTART:20170326T010000
END:DAYLIGHT
BEGIN:STANDARD
TZOFFSETFROM:+0200
TZOFFSETTO:+0100
TZNAME:CET
DTSTART:20171029T010000
END:STANDARD
BEGIN:DAYLIGHT
TZOFFSETFROM:+0100
TZOFFSETTO:+0200
TZNAME:CEST
DTSTART:20180325T010000
END:DAYLIGHT
BEGIN:STANDARD
TZOFFSETFROM:+0200
TZOFFSETTO:+0100
TZNAME:CET
DTSTART:20181028T010000
END:STANDARD
END:VTIMEZONE
BEGIN:VEVENT
DTSTART;VALUE=DATE:20171111
DTEND;VALUE=DATE:20171112
DTSTAMP:20260420T133903
CREATED:20180317T205608Z
LAST-MODIFIED:20180321T133402Z
UID:202-1510358400-1510444799@www.sangiorgiomartireonlus.com
SUMMARY:Convegno “Celestino V...chi era veramente”
DESCRIPTION:Seppur troppo ‘usato’\, quando non proprio ‘abusato’\, del personaggio di “Pietro de Marone” (e non “del Morrone”\, come riporta la storiografia)\, il ‘monachus’ eremita che\, originario e formatosi\, nella struttura monastica dell’abbazia ‘insigne’ di S. Maria “de Fayfolis”\, alle tradizioni culturali e religiose praticate nella diocesi “Musanensis Sancte Marie”\, era nato nel territorio di quest’ultima e verrà eletto papa col nome di Celestino V\, mai la storiografia\, che ha sempre preferito\, ma senza portare ad una soluzione definitiva\, della ‘vexata quaestio’ del luogo in cui ebbe la sua nascita\, aveva indagato sulle specificità valoriali\, frutto proprio della cultura\, e con essa dei modi di vivere la religiosità\, autoctona longobarda e grecanico-beneventana.\nE lui\, in pratica\, fu espressione di tale cultura\, che\, a questo punto\, diventa neccessario afferrare per la comprensione del personaggio.\nProprio per sopperire ad una siffatta lacuna\, è stato individuato come scopo del convegno quello di evidenziare le tipicità beneventano-grecaniche\, di cui la persona di Celestino V andrà\, una volta che si vedrà catapultato al vertice del potere-non-potere religioso\, a tentare di realizzare e di mettere in pratica.\nPer raggiungere il miglior risultato possibile\, si sono proposti i seguenti argomenti:\nLa vita di Celestino V;\nLo specifico culturale di Pietro de Marone;\nLe radici francescane nella spiritualità di Celestino V.
URL:https://www.sangiorgiomartireonlus.com/evento/evento-passato/
LOCATION:“Santa Maria della Strada”\, Matrice\, Italia
ATTACH;FMTTYPE=image/png:https://www.sangiorgiomartireonlus.com/wp-content/uploads/2018/03/schermata-2018-03-18-alle-12-37-39.png
END:VEVENT
BEGIN:VEVENT
DTSTART;TZID=Europe/Rome:20170921T163000
DTEND;TZID=Europe/Rome:20170921T190000
DTSTAMP:20260420T133903
CREATED:20180318T114114Z
LAST-MODIFIED:20180318T114114Z
UID:235-1506011400-1506020400@www.sangiorgiomartireonlus.com
SUMMARY:SS. Crocifisso di Petrella Tifernina
DESCRIPTION:2017\, 21 settembre – SS. Crocifisso di Petrella Tifernina (Scultura lignea di fine 1400 inizio 1500) – “Lettura iconologica” a cura del rev. Sac. Don Nicola Mattia\, presso la chiesa di “San Giorgio Martire” a Petrella Tifernina
URL:https://www.sangiorgiomartireonlus.com/evento/ss-crocifisso-di-petrella-tifernina/
LOCATION:“San Giorgio Martire”\, Petrella Tifernina
ATTACH;FMTTYPE=image/png:https://www.sangiorgiomartireonlus.com/wp-content/uploads/2018/03/schermata-2018-03-18-alle-12-39-35.png
END:VEVENT
BEGIN:VEVENT
DTSTART;VALUE=DATE:20170520
DTEND;VALUE=DATE:20170521
DTSTAMP:20260420T133903
CREATED:20180321T133910Z
LAST-MODIFIED:20180321T133910Z
UID:593-1495238400-1495324799@www.sangiorgiomartireonlus.com
SUMMARY:Convegno “C’era una volta…un altro medioevo”
DESCRIPTION:
URL:https://www.sangiorgiomartireonlus.com/evento/convegno-cera-una-voltaun-altro-medioevo/
END:VEVENT
BEGIN:VEVENT
DTSTART;VALUE=DATE:20161220
DTEND;VALUE=DATE:20161221
DTSTAMP:20260420T133903
CREATED:20180321T134055Z
LAST-MODIFIED:20180321T134055Z
UID:595-1482192000-1482278399@www.sangiorgiomartireonlus.com
SUMMARY:Nasce il Centro Studi\, Dipartimento Culturale “Tiphernum”\, guidato dal professor Francesco Bozza\, studioso di storia locale
DESCRIPTION:
URL:https://www.sangiorgiomartireonlus.com/evento/nasce-il-centro-studi-dipartimento-culturale-tiphernum-guidato-dal-professor-francesco-bozza-studioso-di-storia-locale/
END:VEVENT
BEGIN:VEVENT
DTSTART;VALUE=DATE:20161218
DTEND;VALUE=DATE:20161219
DTSTAMP:20260420T133903
CREATED:20180321T134150Z
LAST-MODIFIED:20180321T134150Z
UID:597-1482019200-1482105599@www.sangiorgiomartireonlus.com
SUMMARY:Festa della “Expectatio partus Matris Dei”
DESCRIPTION:
URL:https://www.sangiorgiomartireonlus.com/evento/festa-della-expectatio-partus-matris-dei/
END:VEVENT
BEGIN:VEVENT
DTSTART;VALUE=DATE:20161211
DTEND;VALUE=DATE:20161212
DTSTAMP:20260420T133903
CREATED:20180321T134246Z
LAST-MODIFIED:20180321T134246Z
UID:599-1481414400-1481500799@www.sangiorgiomartireonlus.com
SUMMARY:Convegno “Dai Segni al Segno”
DESCRIPTION:
URL:https://www.sangiorgiomartireonlus.com/evento/convegno-dai-segni-al-segno/
END:VEVENT
BEGIN:VEVENT
DTSTART;VALUE=DATE:20151118
DTEND;VALUE=DATE:20151119
DTSTAMP:20260420T133903
CREATED:20180321T134330Z
LAST-MODIFIED:20180321T134330Z
UID:601-1447804800-1447891199@www.sangiorgiomartireonlus.com
SUMMARY:Convegno “Le Pietre Parlanti”
DESCRIPTION:
URL:https://www.sangiorgiomartireonlus.com/evento/convegno-le-pietre-parlanti/
END:VEVENT
BEGIN:VEVENT
DTSTART;VALUE=DATE:20140312
DTEND;VALUE=DATE:20140313
DTSTAMP:20260420T133903
CREATED:20180321T134414Z
LAST-MODIFIED:20180321T134414Z
UID:603-1394582400-1394668799@www.sangiorgiomartireonlus.com
SUMMARY:Seminario di studio in collaborazione con l’UNEUR di Roma: “Conversi ad Dominum”
DESCRIPTION:
URL:https://www.sangiorgiomartireonlus.com/evento/seminario-di-studio-in-collaborazione-con-luneur-di-roma-conversi-ad-dominum/
END:VEVENT
BEGIN:VEVENT
DTSTART;VALUE=DATE:20120616
DTEND;VALUE=DATE:20120617
DTSTAMP:20260420T133903
CREATED:20180321T134457Z
LAST-MODIFIED:20180321T134457Z
UID:605-1339804800-1339891199@www.sangiorgiomartireonlus.com
SUMMARY:Esce il catalogo “Pietre Vive” a cura di Cinzia Tamburello
DESCRIPTION:
URL:https://www.sangiorgiomartireonlus.com/evento/esce-il-catalogo-pietre-vive-a-cura-di-cinzia-tamburello/
END:VEVENT
BEGIN:VEVENT
DTSTART;VALUE=DATE:20120420
DTEND;VALUE=DATE:20120421
DTSTAMP:20260420T133903
CREATED:20180321T134546Z
LAST-MODIFIED:20180321T134546Z
UID:607-1334880000-1334966399@www.sangiorgiomartireonlus.com
SUMMARY:Presentazione del libro “Medioevo nel Molise - il cantiere della chiesa di San Giorgio Martire a Petrella Tifernina”\, Gangemi Editore Roma
DESCRIPTION:
URL:https://www.sangiorgiomartireonlus.com/evento/presentazione-del-libro-medioevo-nel-molise-il-cantiere-della-chiesa-di-san-giorgio-martire-a-petrella-tifernina-gangemi-editore-roma/
END:VEVENT
BEGIN:VEVENT
DTSTART;VALUE=DATE:20110702
DTEND;VALUE=DATE:20110703
DTSTAMP:20260420T133903
CREATED:20180321T134710Z
LAST-MODIFIED:20180321T134710Z
UID:611-1309564800-1309651199@www.sangiorgiomartireonlus.com
SUMMARY:Ritiro spirituale dell’Associazione “Cavalieri Templari Cattolici d’Italia”
DESCRIPTION:
URL:https://www.sangiorgiomartireonlus.com/evento/ritiro-spirituale-dellassociazione-cavalieri-templari-cattolici-ditalia/
END:VEVENT
BEGIN:VEVENT
DTSTART;VALUE=DATE:20110609
DTEND;VALUE=DATE:20110610
DTSTAMP:20260420T133903
CREATED:20180321T214043Z
LAST-MODIFIED:20180321T214043Z
UID:639-1307577600-1307663999@www.sangiorgiomartireonlus.com
SUMMARY:Celebrazioni per l’800° Anniversario della dedicazione della chiesa “San Giorgio Martire” a Petrella Tifernina
DESCRIPTION:
URL:https://www.sangiorgiomartireonlus.com/evento/celebrazioni-per-l800-anniversario-della-dedicazione-della-chiesa-san-giorgio-martire-a-petrella-tifernina/
END:VEVENT
BEGIN:VEVENT
DTSTART;VALUE=DATE:20110326
DTEND;VALUE=DATE:20110327
DTSTAMP:20260420T133903
CREATED:20180321T134823Z
LAST-MODIFIED:20180321T134823Z
UID:613-1301097600-1301183999@www.sangiorgiomartireonlus.com
SUMMARY:Giornata Fai di Primavera nel borgo medievale di Petrella Tifernina
DESCRIPTION:
URL:https://www.sangiorgiomartireonlus.com/evento/giornata-fai-di-primavera-nel-borgo-medievale-di-petrella-tifernina/
END:VEVENT
BEGIN:VEVENT
DTSTART;VALUE=DATE:20110316
DTEND;VALUE=DATE:20110317
DTSTAMP:20260420T133903
CREATED:20180321T134623Z
LAST-MODIFIED:20180321T134623Z
UID:609-1300233600-1300319999@www.sangiorgiomartireonlus.com
SUMMARY:Evento “Borgo è bello” a Petrella Tifernina
DESCRIPTION:
URL:https://www.sangiorgiomartireonlus.com/evento/evento-borgo-e-bello-a-petrella-tifernina/
END:VEVENT
BEGIN:VEVENT
DTSTART;VALUE=DATE:20100715
DTEND;VALUE=DATE:20100716
DTSTAMP:20260420T133903
CREATED:20180321T214127Z
LAST-MODIFIED:20180321T214127Z
UID:641-1279152000-1279238399@www.sangiorgiomartireonlus.com
SUMMARY:Evento “Manifestazioni Templari” con l’Associazione Templari Cattolici d’Italia\, l’Associazione Culturale Mysteria Templi e il Comune di Petrella Tifernina
DESCRIPTION:
URL:https://www.sangiorgiomartireonlus.com/evento/evento-manifestazioni-templari-con-lassociazione-templari-cattolici-ditalia-lassociazione-culturale-mysteria-templi-e-il-comune-di-petrella-tifernina/
END:VEVENT
BEGIN:VEVENT
DTSTART;VALUE=DATE:20100312
DTEND;VALUE=DATE:20100313
DTSTAMP:20260420T133903
CREATED:20180321T214208Z
LAST-MODIFIED:20180321T214208Z
UID:643-1268352000-1268438399@www.sangiorgiomartireonlus.com
SUMMARY:Convegno “Il culto della Sindone e i Templari tra Oriente ed Occidente”
DESCRIPTION:
URL:https://www.sangiorgiomartireonlus.com/evento/convegno-il-culto-della-sindone-e-i-templari-tra-oriente-ed-occidente/
END:VEVENT
END:VCALENDAR